BEGIN:VCALENDAR
VERSION:2.0
PRODID:-//LCG UNAM - ECPv6.1.3//NONSGML v1.0//EN
CALSCALE:GREGORIAN
METHOD:PUBLISH
X-WR-CALNAME:LCG UNAM
X-ORIGINAL-URL:https://www.lcg.unam.mx
X-WR-CALDESC:Eventos para LCG UNAM
REFRESH-INTERVAL;VALUE=DURATION:PT1H
X-Robots-Tag:noindex
X-PUBLISHED-TTL:PT1H
BEGIN:VTIMEZONE
TZID:America/Chicago
BEGIN:DAYLIGHT
TZOFFSETFROM:-0600
TZOFFSETTO:-0500
TZNAME:CDT
DTSTART:20260308T080000
END:DAYLIGHT
BEGIN:STANDARD
TZOFFSETFROM:-0500
TZOFFSETTO:-0600
TZNAME:CST
DTSTART:20261101T070000
END:STANDARD
END:VTIMEZONE
BEGIN:VEVENT
DTSTART;TZID=America/Chicago:20260428T110000
DTEND;TZID=America/Chicago:20260428T120000
DTSTAMP:20260422T170232
CREATED:20260108T045542Z
LAST-MODIFIED:20260417T173022Z
UID:5990-1777374000-1777377600@www.lcg.unam.mx
SUMMARY:[NUEVA FECHA] Frontiers in Genomics: Cynthia Silveira Geovirology: viral influences on bacterial geochemical signatures.
DESCRIPTION:Aviso: este seminario se pospone hasta nuevo aviso.\nResumen de la plática \nViruses and virus-like genetic elements are associated with all life on Earth. They have had major roles in the evolution of cellular life as we know it\, having triggered significant biological innovations that stimulated the rise of microbial and complex life. In modern environments\, viral infection is a major modulator of bacterial community composition and metabolism. Yet the potential role of viruses in modulating the production of bacterial biosignatures preserved in the geologic record remains largely unknown. In this talk\, I will discuss recent advances in understanding the impact of viruses on biosignatures in euxinic lakes that are analogs of Proterozoic oceans. In these lakes\, green and purple sulfur bacteria (GSB and PSB) are the main primary producers\, coupling carbon fixation with sulfur oxidation. We show that viral infection strategies are coupled with GSB and PSB activity on these lakes\, where PSB are predominantly infected by viruses that establish dormant\, long-term interactions\, and GSB are infected by lytic viruses that cause cell death. These viruses encode genes that can affect metabolic pathways involved in carbon fixation\, sulfur utilization\, and photosynthetic pigment production. One photosynthesis-related gene was the most highly transcribed viral gene in one of the studied lakes\, coinciding with the detection of oxidized forms of photosynthetic pigments that can be preserved in sediments and potentially in the geologic record over long timescales. These results provide the first evidence of viral impacts on bacterial metabolisms that could be detected in the geological record\, opening the doors to investigating ancient infections that may have shaped life-Earth coevolution. \nCynthia Silveira. College of Science and Arts\, Department of Biology\, University of Miami\, USA\nhttps://people.miami.edu/profile/76b6138029a46082d24c567a640601e0 \nFrontiers in Genomics
URL:https://www.lcg.unam.mx/event/frontiers-in-genomics-cynthia-silveira/
LOCATION:Aula Magna del INSP\, Cuernavaca\, Mexico
CATEGORIES:2026-2,Frontiers in Genomics
ATTACH;FMTTYPE=image/jpeg:https://www.lcg.unam.mx/wp-content/uploads/2026/01/silveira.jpeg
END:VEVENT
BEGIN:VEVENT
DTSTART;TZID=America/Chicago:20260504T090000
DTEND;TZID=America/Chicago:20260504T100000
DTSTAMP:20260422T170232
CREATED:20260108T045952Z
LAST-MODIFIED:20260417T173845Z
UID:5996-1777885200-1777888800@www.lcg.unam.mx
SUMMARY:Frontiers in Genomics: Sirui Zhou
DESCRIPTION:Sirui Zhou. Human Genetics\, McGill University\, ca \nhttps://szhoulab.github.io/ \nFrontiers in Genomics
URL:https://www.lcg.unam.mx/event/frontiers-in-genomics-sirui-zhou/
LOCATION:Zoom
CATEGORIES:2026-2,Frontiers in Genomics
END:VEVENT
BEGIN:VEVENT
DTSTART;TZID=America/Chicago:20260519T170000
DTEND;TZID=America/Chicago:20260519T170000
DTSTAMP:20260422T170232
CREATED:20260108T050056Z
LAST-MODIFIED:20260108T050056Z
UID:5998-1779210000-1779210000@www.lcg.unam.mx
SUMMARY:Frontiers in Genomics: Semir Beyaz
DESCRIPTION:Frontiers in Genomics
URL:https://www.lcg.unam.mx/event/frontiers-in-genomics-semir-beyaz/
LOCATION:Auditorio “Dr. Francisco Bolivar” del IBt\, Instituto de Biotecnología UNAM Morelos\, Cuernavaca\, Morelos\, Mexico
CATEGORIES:2026-2,Frontiers in Genomics
END:VEVENT
END:VCALENDAR